BEGIN:VCALENDAR
VERSION:2.0
PRODID:-//WPLake Events//NONSGML v1.0//EN
CALSCALE:GREGORIAN
METHOD:PUBLISH
X-WR-CALNAME:ONWARD Events
X-WR-TIMEZONE:+01:00
BEGIN:VEVENT
UID:1482@hev-onward.eu
DTSTAMP:20260424T041417Z
DTSTART:20260417T000000
DTEND:20260421T235900
SUMMARY:ESCMID 2026 - Congress of the European Society of  Clinical Microbiology and Infectious Diseases
DESCRIPTION:ESCMID Global is one of the largest and foremost congresses in the field of infection and the comprehensive programme is a collaboration built by the ESCMID Global Programme Committee (EPC)\, ESCMID entities and partners and industry sponsors. It covers a full range of topics allowing all participants to have an all-encompassing experience.\\n\\n\\n\\nThe ESCMID Global Programme is organised into five main pillars: three academic and two industrial. The academic pillars of Education\, Science and Research form the core of the programme dedicated to advancing knowledge\, innovation\, and expertise in the fields of clinical microbiology and infectious diseases. The Pipeline and Industry pillars instead focus on the application of the latest scientific developments by enterprises within the field of infection. Here you can explore each pillar\, and which sessions fall under each as well as special interest sessions.\\n\\n\\n\\nESCMID Global is first and foremost dedicated to expanding knowledge in the fields of clinical microbiology and infectious diseases. This pillar is the foundation upon which ESCMID Global invites you to step into the world of cutting edge. Invited speakers\, keynote lecturers\, and ESCMID awardees bring their expertise to attendees with these classic session types which provide the basis for your scientific discovery.
LOCATION:ESCMID 2026\, Messe München\, Am Messesee 2\, München
URL:https://hev-onward.eu/event/escmid-2026-european-society-of-clinical-microbiology-and-infectious-diseases/
STATUS:CONFIRMED
END:VEVENT
END:VCALENDAR
