BEGIN:VCALENDAR
VERSION:2.0
PRODID:-//WPLake Events//NONSGML v1.0//EN
CALSCALE:GREGORIAN
METHOD:PUBLISH
X-WR-CALNAME:ONWARD Events
X-WR-TIMEZONE:+01:00
BEGIN:VEVENT
UID:1493@hev-onward.eu
DTSTAMP:20260424T041349Z
DTSTART:20260428T000000
DTEND:20260430T235900
SUMMARY:WHS 2026 - The World Hepatitis Summit
DESCRIPTION:The World Hepatitis Summit (WHS) is a global conference to advance the viral hepatitis agenda and provide a platform to share ideas\, experiences and best practices in addressing the many challenges of viral hepatitis.\\n\\n\\n\\nIt is the only conference of its size and scale focusing on the public health approach and the implementation of global and national policies. It is also unique in that it brings a truly diverse global delegate group together\, reflecting that elimination will only be reached through multi-stakeholder responses.\\n\\n\\n\\nThe main target audiences for the summit are Ministers of Health\, policy-makers\, high level government officials\, people living with viral hepatitis\, hepatitis-related civil society groups\, medical professionals\, other relevant UN organizations\, international development partners\, global donors and the private sector.\\n\\n\\n\\nWith 70% of viral-hepatitis related deaths occurring globally in Asia\, we believe it is critical we bring the Summit to Asia.\\n\\n\\n\\nThailand has shown great leadership and commitment in eliminating viral hepatitis and in other health areas\, and in hosting the first WHS in Asia they continue this leadership.\\n\\n\\n\\nBuilding on the legacies of previous summits\, WHS 2026 will be an opportunity for the global community to come together and ensure we continue driving action. Coming just one year after the WHO interim 2025 targets\, and with only four years until the 2030 elimination targets\, the Summit will be a critical juncture to take stock of progress to date and reaffirm the steps required to achieve hepatitiselimination.
LOCATION:WHS 2026\, 18 Phaya Thai Rd\, Thung Phaya Thai\, Ratchathewi\, Bangkok
URL:https://hev-onward.eu/event/whs-2026-the-world-hepatitis-summit/
STATUS:CONFIRMED
END:VEVENT
END:VCALENDAR
